BEGIN:VCALENDAR
VERSION:2.0
PRODID:-//IGLESIA LA ROCA - ECPv6.6.0.2//NONSGML v1.0//EN
CALSCALE:GREGORIAN
METHOD:PUBLISH
X-ORIGINAL-URL:https://larocamia.com
X-WR-CALDESC:Eventos para IGLESIA LA ROCA
REFRESH-INTERVAL;VALUE=DURATION:PT1H
X-Robots-Tag:noindex
X-PUBLISHED-TTL:PT1H
BEGIN:VTIMEZONE
TZID:America/New_York
BEGIN:DAYLIGHT
TZOFFSETFROM:-0500
TZOFFSETTO:-0400
TZNAME:EDT
DTSTART:20240310T070000
END:DAYLIGHT
BEGIN:STANDARD
TZOFFSETFROM:-0400
TZOFFSETTO:-0500
TZNAME:EST
DTSTART:20241103T060000
END:STANDARD
END:VTIMEZONE
BEGIN:VEVENT
DTSTART;TZID=America/New_York:20240910T170000
DTEND;TZID=America/New_York:20240912T170000
DTSTAMP:20260419T150101
CREATED:20240822T121931Z
LAST-MODIFIED:20240831T183721Z
UID:22442-1725987600-1726160400@larocamia.com
SUMMARY:CASAS SIN LIMITES
DESCRIPTION:En esta Conferencia Celular\, tendremos la oportunidad de aprender cómo llevar nuestra Iglesia y Liderazgo al siguiente nivel. Experimentaremos de primera mano cómo un grupo celular puede crecer en su relación con Dios\, fortalecer los vínculos entre sus miembros y multiplicarse en número. Todo esto se logra a través del método bíblico del desarrollo de una casa celular\, demostrando ser una estrategia eficaz para cumplir con la Gran Comisión. \nDurante el evento\, compartiremos enseñanzas tanto teóricas como prácticas. También podrás interactuar con pastores y líderes que comparten la misma pasión por ver crecer sus iglesias locales
URL:https://larocamia.com/event/casas-sin-limites/
LOCATION:Iglesia La Roca\, 3751 NW 94th Ave Hollywood\, FL\, Florida\, United States
ATTACH;FMTTYPE=image/png:https://larocamia.com/wp-content/uploads/2024/08/CONFERENCIA-CELULAR.png
END:VEVENT
BEGIN:VEVENT
DTSTART;TZID=America/New_York:20240912T080000
DTEND;TZID=America/New_York:20240915T170000
DTSTAMP:20260419T150101
CREATED:20240523T151503Z
LAST-MODIFIED:20240831T183552Z
UID:22154-1726128000-1726419600@larocamia.com
SUMMARY:SIN LIMITES
DESCRIPTION:La Conferencia Sin Límites es una de las actividades más destacadas de la Iglesia La Roca. Es un momento especial de impartición ministerial a través de conferencias y servicios donde se manifiesta el fluir del Espíritu Santo de manera poderosa. Contaremos con la participación de los pastores Mark Drost y Jack Cunningham como predicadores invitados. \nÚnase a nosotros y sea parte de este gran movimiento del Espíritu \n 
URL:https://larocamia.com/event/sin-limites/
LOCATION:Iglesia La Roca\, 3751 NW 94th Ave Hollywood\, FL\, Florida\, United States
ATTACH;FMTTYPE=image/png:https://larocamia.com/wp-content/uploads/2024/05/PREDICADORES-SL-1.png
END:VEVENT
END:VCALENDAR